BEGIN:VCALENDAR
VERSION:2.0
PRODID:-//Gerlinde - ECPv4.3.0.1//NONSGML v1.0//EN
CALSCALE:GREGORIAN
METHOD:PUBLISH
X-WR-CALNAME:Gerlinde
X-ORIGINAL-URL:http://gerlinde.ie
X-WR-CALDESC:Events for Gerlinde
BEGIN:VEVENT
DTSTART;TZID=UTC+0:20171104T100000
DTEND;TZID=UTC+0:20171104T173000
DTSTAMP:20171024T031226
CREATED:20161018T165346Z
LAST-MODIFIED:20171020T091917Z
UID:442-1509789600-1509816600@gerlinde.ie
SUMMARY:Stained Glass Workshop
DESCRIPTION:The Stained Glass workshop is an intensive full day workshop. You start with creating your own design for your panel or can choose from a selection of design that I have on hand. You will learn the full process of cutting\, polishing\, using lead cames\, about painting on glass\, matting and etching\, and cementing the glass. It will teach you all the necessary skills to go out and create pieces of glass on your own.\n\nThe Stained Glass Workshop includes all materials required\, a coffee and tea break in the morning\, a delicious lunch\, and in the evening a cake with coffee and tea.\n\nThe Stained Glass Workshop requires a minimum of 2 people to make the workshop worthwhile and enjoyable\, so if you are the only person to have registered for the date I will contact you to arrange another date or refund your payment.\n\nGroups of 3 or more people should contact me at 0876488993 to arrange a date as I could potentially hold the workshop on another date of your choosing.\n\nThere is a minimum cancellation policy of 48 hours before the workshop\, and I am afraid I cannot return the payment if you cancel after that time.
URL:http://gerlinde.ie/event/stained-glass-workshop/2017-11-04/
LOCATION:5 Kendalstown Rise\, Delgany\, Co Wicklow\, Ireland
GEO:53.1423527;-6.0978071
X-APPLE-STRUCTURED-LOCATION;VALUE=URI;X-ADDRESS=5 Kendalstown Rise Delgany Co Wicklow Ireland;X-APPLE-RADIUS=500;X-TITLE=5 Kendalstown Rise:geo:-6.0978071,53.1423527
CATEGORIES:Stained Glass Workshop
ATTACH;FMTTYPE=image/jpeg:http://gerlinde.ie/wp-content/uploads/2015/07/glassworkshoptile.jpg
END:VEVENT
END:VCALENDAR